BEGIN:VCALENDAR
VERSION:2.0
PRODID:-//Association of Corporate Treasurers (Singapore) - ECPv6.15.20//NONSGML v1.0//EN
CALSCALE:GREGORIAN
METHOD:PUBLISH
X-ORIGINAL-URL:https://act.org.sg
X-WR-CALDESC:Events for Association of Corporate Treasurers (Singapore)
REFRESH-INTERVAL;VALUE=DURATION:PT1H
X-Robots-Tag:noindex
X-PUBLISHED-TTL:PT1H
BEGIN:VTIMEZONE
TZID:Asia/Shanghai
BEGIN:STANDARD
TZOFFSETFROM:+0800
TZOFFSETTO:+0800
TZNAME:CST
DTSTART:20170101T000000
END:STANDARD
END:VTIMEZONE
BEGIN:VEVENT
DTSTART;TZID=Asia/Shanghai:20191114T120000
DTEND;TZID=Asia/Shanghai:20191114T160000
DTSTAMP:20260421T213916
CREATED:20200223T213939Z
LAST-MODIFIED:20200223T213939Z
UID:239-1573732800-1573747200@act.org.sg
SUMMARY:Adam Smith Awards ASIA 2019
DESCRIPTION:
URL:https://act.org.sg/event/adam-smith-awards-asia-2019/
END:VEVENT
BEGIN:VEVENT
DTSTART;TZID=Asia/Shanghai:20191009T080000
DTEND;TZID=Asia/Shanghai:20191009T130000
DTSTAMP:20260421T213916
CREATED:20200223T211958Z
LAST-MODIFIED:20200223T211958Z
UID:223-1570608000-1570626000@act.org.sg
SUMMARY:Treasurers Asia Summit 2019 : Business Case Competition Finals
DESCRIPTION:
URL:https://act.org.sg/event/treasurers-asia-summit-business-case-competition-finals/
END:VEVENT
BEGIN:VEVENT
DTSTART;TZID=Asia/Shanghai:20191008T090000
DTEND;TZID=Asia/Shanghai:20191008T173000
DTSTAMP:20260421T213916
CREATED:20200110T095129Z
LAST-MODIFIED:20200110T095129Z
UID:83-1570525200-1570555800@act.org.sg
SUMMARY:Treasurers Asia Summit 2019
DESCRIPTION:Join over 200 Corporate Treasury practitioners\, professionals and academics from Multi-National Corporations\, Financial Institutions\, Financial Service Providers\, Universities\, Trade Publications and Associations for an afternoon of insightful discussions on Singapore and her position as a Global Finance and Treasury Centre. Choose to attend any 2 of the 8 unique breakout streams covering various topics across the diverse roles and responsibilities of the modern Corporate Treasurer. Take advantage of the opportunity to engage the best minds in the industry\, deep dive and learn from each other’s experiences and expertise. \nClick here for the post event highlights!
URL:https://act.org.sg/event/treasurers-asia-summit-2019/
CATEGORIES:ACTS Key Events
END:VEVENT
BEGIN:VEVENT
DTSTART;TZID=Asia/Shanghai:20190918T153000
DTEND;TZID=Asia/Shanghai:20190918T183000
DTSTAMP:20260421T213916
CREATED:20200223T211549Z
LAST-MODIFIED:20200223T211549Z
UID:218-1568820600-1568831400@act.org.sg
SUMMARY:TalkShop:  Managing Business in a VUCA and Digital Age
DESCRIPTION:
URL:https://act.org.sg/event/talkshop-managing-business-in-a-vuca-and-digital-age/
LOCATION:JW Marriot Hotel Singapore South Beach\, 30 Beach Road\, 189763\, Singapore
END:VEVENT
BEGIN:VEVENT
DTSTART;TZID=Asia/Shanghai:20190828T180000
DTEND;TZID=Asia/Shanghai:20190828T200000
DTSTAMP:20260421T213916
CREATED:20200223T211055Z
LAST-MODIFIED:20200223T211055Z
UID:214-1567015200-1567022400@act.org.sg
SUMMARY:SIX TO EIGHT : BYOG Night
DESCRIPTION:
URL:https://act.org.sg/event/six-to-eight-byod-night/
END:VEVENT
BEGIN:VEVENT
DTSTART;TZID=Asia/Shanghai:20190718T113000
DTEND;TZID=Asia/Shanghai:20190718T170000
DTSTAMP:20260421T213916
CREATED:20200223T210058Z
LAST-MODIFIED:20200223T210058Z
UID:211-1563449400-1563469200@act.org.sg
SUMMARY:TECHINSG v2.0
DESCRIPTION:
URL:https://act.org.sg/event/techinsg-v2-0/
END:VEVENT
BEGIN:VEVENT
DTSTART;TZID=Asia/Shanghai:20190710T190000
DTEND;TZID=Asia/Shanghai:20190710T210000
DTSTAMP:20260421T213916
CREATED:20200223T205735Z
LAST-MODIFIED:20200223T205735Z
UID:208-1562785200-1562792400@act.org.sg
SUMMARY:First Engagement – The CFO Group
DESCRIPTION:
URL:https://act.org.sg/event/first-engagement-the-cfo-group/
END:VEVENT
BEGIN:VEVENT
DTSTART;TZID=Asia/Shanghai:20190627T110000
DTEND;TZID=Asia/Shanghai:20190627T133000
DTSTAMP:20260421T213916
CREATED:20200223T205435Z
LAST-MODIFIED:20200223T205435Z
UID:205-1561633200-1561642200@act.org.sg
SUMMARY:ACTS/SIM GE Career Talk
DESCRIPTION:
URL:https://act.org.sg/event/acts-sim-ge-career-talk/
END:VEVENT
BEGIN:VEVENT
DTSTART;TZID=Asia/Shanghai:20190626T150000
DTEND;TZID=Asia/Shanghai:20190626T170000
DTSTAMP:20260421T213916
CREATED:20200223T205208Z
LAST-MODIFIED:20200223T205208Z
UID:202-1561561200-1561568400@act.org.sg
SUMMARY:Forward Together – An Afternoon at Grab
DESCRIPTION:ACTS at Grab Singapore
URL:https://act.org.sg/event/forward-together-an-afternoon-at-grab/
END:VEVENT
BEGIN:VEVENT
DTSTART;TZID=Asia/Shanghai:20190523T083000
DTEND;TZID=Asia/Shanghai:20190523T173000
DTSTAMP:20260421T213916
CREATED:20200223T213602Z
LAST-MODIFIED:20200223T213602Z
UID:235-1558600200-1558632600@act.org.sg
SUMMARY:Supply Chain Finance Community Forum Asia
DESCRIPTION:
URL:https://act.org.sg/event/supply-chain-finance-community-forum-asia/
LOCATION:Shaw Foundation Alumni House\, National University of Singapore 11 Kent Ridge Drive\, 119244\, Singapore
END:VEVENT
BEGIN:VEVENT
DTSTART;TZID=Asia/Shanghai:20190516T080000
DTEND;TZID=Asia/Shanghai:20190516T170000
DTSTAMP:20260421T213916
CREATED:20200223T213000Z
LAST-MODIFIED:20200223T213000Z
UID:231-1557993600-1558026000@act.org.sg
SUMMARY:International Treasury Forum
DESCRIPTION:
URL:https://act.org.sg/event/international-treasury-forum/
END:VEVENT
BEGIN:VEVENT
DTSTART;TZID=Asia/Shanghai:20190515T140000
DTEND;TZID=Asia/Shanghai:20190515T170000
DTSTAMP:20260421T213916
CREATED:20200223T204910Z
LAST-MODIFIED:20200223T204910Z
UID:199-1557928800-1557939600@act.org.sg
SUMMARY:The Future of Treasury
DESCRIPTION:
URL:https://act.org.sg/event/the-future-of-treasury/
LOCATION:DBS Asia X\, 1 Fusionopolis View\, 138577\, Singapore
END:VEVENT
BEGIN:VEVENT
DTSTART;TZID=Asia/Shanghai:20190411T120000
DTEND;TZID=Asia/Shanghai:20190411T160000
DTSTAMP:20260421T213916
CREATED:20200223T212428Z
LAST-MODIFIED:20200223T212428Z
UID:227-1554984000-1554998400@act.org.sg
SUMMARY:Women in Treasury Asia Forum
DESCRIPTION:
URL:https://act.org.sg/event/women-in-treasury-asia-forum/
LOCATION:Four Seasons Hotel\, 190 Orchard Boulevard\, 248646\, Singapore
END:VEVENT
BEGIN:VEVENT
DTSTART;TZID=Asia/Shanghai:20190408T120000
DTEND;TZID=Asia/Shanghai:20190408T140000
DTSTAMP:20260421T213916
CREATED:20200223T204728Z
LAST-MODIFIED:20200223T204728Z
UID:195-1554724800-1554732000@act.org.sg
SUMMARY:An Introduction to Corporate Treasury and FX Risk Management
DESCRIPTION:
URL:https://act.org.sg/event/an-introduction-to-corporate-treasury-and-fx-risk-management/
END:VEVENT
BEGIN:VEVENT
DTSTART;TZID=Asia/Shanghai:20190404T140000
DTEND;TZID=Asia/Shanghai:20190404T170000
DTSTAMP:20260421T213916
CREATED:20200223T204201Z
LAST-MODIFIED:20200223T204201Z
UID:191-1554386400-1554397200@act.org.sg
SUMMARY:Corporate Treasury Masterclass - The FX Effect
DESCRIPTION:
URL:https://act.org.sg/event/corporate-treasury-masterclass-the-fx-effect/
END:VEVENT
BEGIN:VEVENT
DTSTART;TZID=Asia/Shanghai:20190328T090000
DTEND;TZID=Asia/Shanghai:20190328T110000
DTSTAMP:20260421T213916
CREATED:20200223T203915Z
LAST-MODIFIED:20200223T203915Z
UID:185-1553763600-1553770800@act.org.sg
SUMMARY:Breakfast Talk: Future of Payments in Asia
DESCRIPTION:
URL:https://act.org.sg/event/breakfast-talk-future-of-payments-in-asia/
END:VEVENT
BEGIN:VEVENT
DTSTART;TZID=Asia/Shanghai:20190321T180000
DTEND;TZID=Asia/Shanghai:20190321T200000
DTSTAMP:20260421T213916
CREATED:20200223T203439Z
LAST-MODIFIED:20200223T203439Z
UID:182-1553191200-1553198400@act.org.sg
SUMMARY:SIX TO EIGHT (Members Night/AGM)
DESCRIPTION:ACTS AGM & Dinner 2019
URL:https://act.org.sg/event/six-to-eight-members-night-agm/
END:VEVENT
BEGIN:VEVENT
DTSTART;TZID=Asia/Shanghai:20190306T153000
DTEND;TZID=Asia/Shanghai:20190306T170000
DTSTAMP:20260421T213916
CREATED:20200223T203223Z
LAST-MODIFIED:20200223T203223Z
UID:179-1551886200-1551891600@act.org.sg
SUMMARY:Visit to Dyson
DESCRIPTION:
URL:https://act.org.sg/event/visit-to-dyson/
END:VEVENT
BEGIN:VEVENT
DTSTART;TZID=Asia/Shanghai:20190115T153000
DTEND;TZID=Asia/Shanghai:20190115T173000
DTSTAMP:20260421T213916
CREATED:20200223T202638Z
LAST-MODIFIED:20200223T202638Z
UID:175-1547566200-1547573400@act.org.sg
SUMMARY:China Cross-Border Sweeping
DESCRIPTION:
URL:https://act.org.sg/event/china-cross-border-sweeping/
END:VEVENT
BEGIN:VEVENT
DTSTART;TZID=Asia/Shanghai:20181115T120000
DTEND;TZID=Asia/Shanghai:20181115T160000
DTSTAMP:20260421T213916
CREATED:20200224T155412Z
LAST-MODIFIED:20200224T155412Z
UID:318-1542283200-1542297600@act.org.sg
SUMMARY:Adam Smith Awards ASIA 2018
DESCRIPTION:
URL:https://act.org.sg/event/adam-smith-awards-asia-2018/
LOCATION:Four Seasons Hotel\, 190 Orchard Boulevard\, 248646\, Singapore
END:VEVENT
BEGIN:VEVENT
DTSTART;TZID=Asia/Shanghai:20181101T083000
DTEND;TZID=Asia/Shanghai:20181102T170000
DTSTAMP:20260421T213916
CREATED:20200224T155314Z
LAST-MODIFIED:20200224T155314Z
UID:315-1541061000-1541178000@act.org.sg
SUMMARY:Annual Conference: Developing Asia's Capital Markets
DESCRIPTION:
URL:https://act.org.sg/event/annual-conference-developing-asias-capital-markets/
END:VEVENT
BEGIN:VEVENT
DTSTART;TZID=Asia/Shanghai:20181019T120000
DTEND;TZID=Asia/Shanghai:20181019T140000
DTSTAMP:20260421T213916
CREATED:20200224T153640Z
LAST-MODIFIED:20200224T153640Z
UID:293-1539950400-1539957600@act.org.sg
SUMMARY:ACTS/NTU Career Talk
DESCRIPTION:
URL:https://act.org.sg/event/acts-ntu-career-talk/
END:VEVENT
BEGIN:VEVENT
DTSTART;TZID=Asia/Shanghai:20180924T173000
DTEND;TZID=Asia/Shanghai:20180924T200000
DTSTAMP:20260421T213916
CREATED:20200224T153057Z
LAST-MODIFIED:20200224T153057Z
UID:290-1537810200-1537819200@act.org.sg
SUMMARY:Treasury Without Borders
DESCRIPTION:
URL:https://act.org.sg/event/treasury-without-borders/
END:VEVENT
BEGIN:VEVENT
DTSTART;TZID=Asia/Shanghai:20180920T080000
DTEND;TZID=Asia/Shanghai:20180920T170000
DTSTAMP:20260421T213916
CREATED:20200224T152932Z
LAST-MODIFIED:20200224T152932Z
UID:286-1537430400-1537462800@act.org.sg
SUMMARY:ACTS/ATC Treasury Forum 2018
DESCRIPTION:
URL:https://act.org.sg/event/acts-atc-treasury-forum-2018/
END:VEVENT
BEGIN:VEVENT
DTSTART;TZID=Asia/Shanghai:20180905T080000
DTEND;TZID=Asia/Shanghai:20180905T160000
DTSTAMP:20260421T213916
CREATED:20200224T155153Z
LAST-MODIFIED:20200224T155153Z
UID:311-1536134400-1536163200@act.org.sg
SUMMARY:Asia Global FX\, Singapore
DESCRIPTION:
URL:https://act.org.sg/event/asia-global-fx-singapore/
LOCATION:Conrad Centennial Singapore\, 2 Temasek Boulevard\, 038982\, Singapore
END:VEVENT
BEGIN:VEVENT
DTSTART;TZID=Asia/Shanghai:20180816T180000
DTEND;TZID=Asia/Shanghai:20180816T200000
DTSTAMP:20260421T213916
CREATED:20200224T152119Z
LAST-MODIFIED:20200224T152119Z
UID:280-1534442400-1534449600@act.org.sg
SUMMARY:SIX TO EIGHT – BYOD Night
DESCRIPTION:
URL:https://act.org.sg/event/six-to-eight-byod-night-2/
END:VEVENT
BEGIN:VEVENT
DTSTART;TZID=Asia/Shanghai:20180816T140000
DTEND;TZID=Asia/Shanghai:20180816T170000
DTSTAMP:20260421T213916
CREATED:20200224T152340Z
LAST-MODIFIED:20200224T152340Z
UID:282-1534428000-1534438800@act.org.sg
SUMMARY:Navigating Through Global Trends
DESCRIPTION:
URL:https://act.org.sg/event/navigating-through-global-trends/
END:VEVENT
BEGIN:VEVENT
DTSTART;TZID=Asia/Shanghai:20180727T133000
DTEND;TZID=Asia/Shanghai:20180727T180000
DTSTAMP:20260421T213916
CREATED:20200224T151946Z
LAST-MODIFIED:20200224T151946Z
UID:277-1532698200-1532714400@act.org.sg
SUMMARY:TECHINSG – Fintech Solutions for the Corporate Treasurer
DESCRIPTION:
URL:https://act.org.sg/event/techinsg-fintech-solutions-for-the-corporate-treasurer/
END:VEVENT
BEGIN:VEVENT
DTSTART;TZID=Asia/Shanghai:20180628T110000
DTEND;TZID=Asia/Shanghai:20180628T133000
DTSTAMP:20260421T213916
CREATED:20200224T151700Z
LAST-MODIFIED:20200224T151700Z
UID:275-1530183600-1530192600@act.org.sg
SUMMARY:ACTS/SIM GE Career Talk
DESCRIPTION:
URL:https://act.org.sg/event/acts-sim-ge-career-talk-2/
END:VEVENT
BEGIN:VEVENT
DTSTART;TZID=Asia/Shanghai:20180620T093000
DTEND;TZID=Asia/Shanghai:20180620T123000
DTSTAMP:20260421T213916
CREATED:20200224T151524Z
LAST-MODIFIED:20200224T151524Z
UID:272-1529487000-1529497800@act.org.sg
SUMMARY:The Future World of Digital & Its Impact on Corporations
DESCRIPTION:
URL:https://act.org.sg/event/the-future-world-of-digital-its-impact-on-corporations/
LOCATION:DBS Asia X\, 1 Fusionopolis View\, 138577\, Singapore
END:VEVENT
END:VCALENDAR