BEGIN:VCALENDAR
VERSION:2.0
PRODID:-//Association of Corporate Treasurers (Singapore) - ECPv6.15.20//NONSGML v1.0//EN
CALSCALE:GREGORIAN
METHOD:PUBLISH
X-WR-CALNAME:Association of Corporate Treasurers (Singapore)
X-ORIGINAL-URL:https://act.org.sg
X-WR-CALDESC:Events for Association of Corporate Treasurers (Singapore)
REFRESH-INTERVAL;VALUE=DURATION:PT1H
X-Robots-Tag:noindex
X-PUBLISHED-TTL:PT1H
BEGIN:VTIMEZONE
TZID:Asia/Shanghai
BEGIN:STANDARD
TZOFFSETFROM:+0800
TZOFFSETTO:+0800
TZNAME:CST
DTSTART:20160101T000000
END:STANDARD
END:VTIMEZONE
BEGIN:VEVENT
DTSTART;TZID=Asia/Shanghai:20170608T090000
DTEND;TZID=Asia/Shanghai:20170608T110000
DTSTAMP:20260422T061136
CREATED:20200224T180400Z
LAST-MODIFIED:20200224T180400Z
UID:338-1496912400-1496919600@act.org.sg
SUMMARY:Treasury Roundtable : Supplier Financing and Working Capital Optimisation
DESCRIPTION:
URL:https://act.org.sg/event/treasury-roundtable-supplier-financing-and-working-capital-optimisation/
END:VEVENT
BEGIN:VEVENT
DTSTART;TZID=Asia/Shanghai:20170606T083000
DTEND;TZID=Asia/Shanghai:20170606T170000
DTSTAMP:20260422T061136
CREATED:20200224T184403Z
LAST-MODIFIED:20200224T184403Z
UID:376-1496737800-1496768400@act.org.sg
SUMMARY:Supply Chain Finance Community Forum Asia
DESCRIPTION:
URL:https://act.org.sg/event/supply-chain-finance-community-forum-asia-3/
LOCATION:Shaw Foundation Alumni House\, National University of Singapore 11 Kent Ridge Drive\, 119244\, Singapore
END:VEVENT
BEGIN:VEVENT
DTSTART;TZID=Asia/Shanghai:20170602T150000
DTEND;TZID=Asia/Shanghai:20170602T173000
DTSTAMP:20260422T061136
CREATED:20200224T180140Z
LAST-MODIFIED:20200224T180140Z
UID:335-1496415600-1496424600@act.org.sg
SUMMARY:US-China Relations: Where Do We Go From Here?
DESCRIPTION:
URL:https://act.org.sg/event/us-china-relations-where-do-we-go-from-here/
END:VEVENT
BEGIN:VEVENT
DTSTART;TZID=Asia/Shanghai:20170519T140000
DTEND;TZID=Asia/Shanghai:20170519T150000
DTSTAMP:20260422T061136
CREATED:20200224T182527Z
LAST-MODIFIED:20200224T182527Z
UID:357-1495202400-1495206000@act.org.sg
SUMMARY:SWIFT GPI\, Enabling Fast and Traceable Cross Border Payments
DESCRIPTION:
URL:https://act.org.sg/event/swift-gpi-enabling-fast-and-traceable-cross-border-payments/
CATEGORIES:Webinar
END:VEVENT
BEGIN:VEVENT
DTSTART;TZID=Asia/Shanghai:20170509T083000
DTEND;TZID=Asia/Shanghai:20170509T103000
DTSTAMP:20260422T061136
CREATED:20200224T175700Z
LAST-MODIFIED:20200224T175700Z
UID:331-1494318600-1494325800@act.org.sg
SUMMARY:The Global Challenges of Managing Your Cash
DESCRIPTION:
URL:https://act.org.sg/event/the-global-challenges-of-managing-your-cash/
END:VEVENT
BEGIN:VEVENT
DTSTART;TZID=Asia/Shanghai:20170420T170000
DTEND;TZID=Asia/Shanghai:20170420T200000
DTSTAMP:20260422T061136
CREATED:20200224T175447Z
LAST-MODIFIED:20200224T175447Z
UID:329-1492707600-1492718400@act.org.sg
SUMMARY:Engage.Accelerate.Disrupt
DESCRIPTION:
URL:https://act.org.sg/event/engage-accelerate-disrupt/
LOCATION:DBS Asia X\, 1 Fusionopolis View\, 138577\, Singapore
END:VEVENT
BEGIN:VEVENT
DTSTART;TZID=Asia/Shanghai:20170406T120000
DTEND;TZID=Asia/Shanghai:20170406T160000
DTSTAMP:20260422T061136
CREATED:20200224T184222Z
LAST-MODIFIED:20200224T184222Z
UID:373-1491480000-1491494400@act.org.sg
SUMMARY:Women in Treasury Asia Forum
DESCRIPTION:
URL:https://act.org.sg/event/women-in-treasury-asia-forum-3/
LOCATION:Four Seasons Hotel\, 190 Orchard Boulevard\, 248646\, Singapore
END:VEVENT
BEGIN:VEVENT
DTSTART;TZID=Asia/Shanghai:20170328T143000
DTEND;TZID=Asia/Shanghai:20170328T153000
DTSTAMP:20260422T061136
CREATED:20200224T182312Z
LAST-MODIFIED:20200224T182312Z
UID:355-1490711400-1490715000@act.org.sg
SUMMARY:Disruptive Technology Part 1 (WYNTK)
DESCRIPTION:
URL:https://act.org.sg/event/disruptive-technology-part-1-wyntk/
CATEGORIES:Webinar
END:VEVENT
BEGIN:VEVENT
DTSTART;TZID=Asia/Shanghai:20170322T180000
DTEND;TZID=Asia/Shanghai:20170322T200000
DTSTAMP:20260422T061136
CREATED:20200224T175323Z
LAST-MODIFIED:20200224T175323Z
UID:326-1490205600-1490212800@act.org.sg
SUMMARY:SIX TO EIGHT : Members Night/AGM
DESCRIPTION:
URL:https://act.org.sg/event/six-to-eight-members-night-agm-3/
END:VEVENT
BEGIN:VEVENT
DTSTART;TZID=Asia/Shanghai:20170321T090000
DTEND;TZID=Asia/Shanghai:20170323T173000
DTSTAMP:20260422T061136
CREATED:20200224T184128Z
LAST-MODIFIED:20200224T184128Z
UID:369-1490086800-1490290200@act.org.sg
SUMMARY:Trade Tech FX Asia
DESCRIPTION:
URL:https://act.org.sg/event/trade-tech-fx-asia/
END:VEVENT
BEGIN:VEVENT
DTSTART;TZID=Asia/Shanghai:20170308T083000
DTEND;TZID=Asia/Shanghai:20170309T170000
DTSTAMP:20260422T061136
CREATED:20200224T183552Z
LAST-MODIFIED:20200224T183552Z
UID:365-1488961800-1489078800@act.org.sg
SUMMARY:CTWeek 2017
DESCRIPTION:
URL:https://act.org.sg/event/ctweek-2017/
END:VEVENT
BEGIN:VEVENT
DTSTART;TZID=Asia/Shanghai:20170202T100000
DTEND;TZID=Asia/Shanghai:20170202T110000
DTSTAMP:20260422T061136
CREATED:20200224T181834Z
LAST-MODIFIED:20200224T181834Z
UID:353-1486029600-1486033200@act.org.sg
SUMMARY:Singapore Banks: Stable Ratings Outlook
DESCRIPTION:
URL:https://act.org.sg/event/singapore-banks-stable-ratings-outlook/
CATEGORIES:Webinar
END:VEVENT
END:VCALENDAR