BEGIN:VCALENDAR
VERSION:2.0
PRODID:-//Association of Corporate Treasurers (Singapore) - ECPv6.15.20//NONSGML v1.0//EN
CALSCALE:GREGORIAN
METHOD:PUBLISH
X-WR-CALNAME:Association of Corporate Treasurers (Singapore)
X-ORIGINAL-URL:https://act.org.sg
X-WR-CALDESC:Events for Association of Corporate Treasurers (Singapore)
REFRESH-INTERVAL;VALUE=DURATION:PT1H
X-Robots-Tag:noindex
X-PUBLISHED-TTL:PT1H
BEGIN:VTIMEZONE
TZID:Asia/Shanghai
BEGIN:STANDARD
TZOFFSETFROM:+0800
TZOFFSETTO:+0800
TZNAME:CST
DTSTART:20160101T000000
END:STANDARD
END:VTIMEZONE
BEGIN:VEVENT
DTSTART;TZID=Asia/Shanghai:20181101T083000
DTEND;TZID=Asia/Shanghai:20181102T170000
DTSTAMP:20260422T010527
CREATED:20200224T155314Z
LAST-MODIFIED:20200224T155314Z
UID:315-1541061000-1541178000@act.org.sg
SUMMARY:Annual Conference: Developing Asia's Capital Markets
DESCRIPTION:
URL:https://act.org.sg/event/annual-conference-developing-asias-capital-markets/
END:VEVENT
BEGIN:VEVENT
DTSTART;TZID=Asia/Shanghai:20181019T120000
DTEND;TZID=Asia/Shanghai:20181019T140000
DTSTAMP:20260422T010527
CREATED:20200224T153640Z
LAST-MODIFIED:20200224T153640Z
UID:293-1539950400-1539957600@act.org.sg
SUMMARY:ACTS/NTU Career Talk
DESCRIPTION:
URL:https://act.org.sg/event/acts-ntu-career-talk/
END:VEVENT
BEGIN:VEVENT
DTSTART;TZID=Asia/Shanghai:20180924T173000
DTEND;TZID=Asia/Shanghai:20180924T200000
DTSTAMP:20260422T010527
CREATED:20200224T153057Z
LAST-MODIFIED:20200224T153057Z
UID:290-1537810200-1537819200@act.org.sg
SUMMARY:Treasury Without Borders
DESCRIPTION:
URL:https://act.org.sg/event/treasury-without-borders/
END:VEVENT
BEGIN:VEVENT
DTSTART;TZID=Asia/Shanghai:20180920T080000
DTEND;TZID=Asia/Shanghai:20180920T170000
DTSTAMP:20260422T010527
CREATED:20200224T152932Z
LAST-MODIFIED:20200224T152932Z
UID:286-1537430400-1537462800@act.org.sg
SUMMARY:ACTS/ATC Treasury Forum 2018
DESCRIPTION:
URL:https://act.org.sg/event/acts-atc-treasury-forum-2018/
END:VEVENT
BEGIN:VEVENT
DTSTART;TZID=Asia/Shanghai:20180905T080000
DTEND;TZID=Asia/Shanghai:20180905T160000
DTSTAMP:20260422T010527
CREATED:20200224T155153Z
LAST-MODIFIED:20200224T155153Z
UID:311-1536134400-1536163200@act.org.sg
SUMMARY:Asia Global FX\, Singapore
DESCRIPTION:
URL:https://act.org.sg/event/asia-global-fx-singapore/
LOCATION:Conrad Centennial Singapore\, 2 Temasek Boulevard\, 038982\, Singapore
END:VEVENT
BEGIN:VEVENT
DTSTART;TZID=Asia/Shanghai:20180816T180000
DTEND;TZID=Asia/Shanghai:20180816T200000
DTSTAMP:20260422T010527
CREATED:20200224T152119Z
LAST-MODIFIED:20200224T152119Z
UID:280-1534442400-1534449600@act.org.sg
SUMMARY:SIX TO EIGHT – BYOD Night
DESCRIPTION:
URL:https://act.org.sg/event/six-to-eight-byod-night-2/
END:VEVENT
BEGIN:VEVENT
DTSTART;TZID=Asia/Shanghai:20180816T140000
DTEND;TZID=Asia/Shanghai:20180816T170000
DTSTAMP:20260422T010527
CREATED:20200224T152340Z
LAST-MODIFIED:20200224T152340Z
UID:282-1534428000-1534438800@act.org.sg
SUMMARY:Navigating Through Global Trends
DESCRIPTION:
URL:https://act.org.sg/event/navigating-through-global-trends/
END:VEVENT
BEGIN:VEVENT
DTSTART;TZID=Asia/Shanghai:20180727T133000
DTEND;TZID=Asia/Shanghai:20180727T180000
DTSTAMP:20260422T010527
CREATED:20200224T151946Z
LAST-MODIFIED:20200224T151946Z
UID:277-1532698200-1532714400@act.org.sg
SUMMARY:TECHINSG – Fintech Solutions for the Corporate Treasurer
DESCRIPTION:
URL:https://act.org.sg/event/techinsg-fintech-solutions-for-the-corporate-treasurer/
END:VEVENT
BEGIN:VEVENT
DTSTART;TZID=Asia/Shanghai:20180628T110000
DTEND;TZID=Asia/Shanghai:20180628T133000
DTSTAMP:20260422T010527
CREATED:20200224T151700Z
LAST-MODIFIED:20200224T151700Z
UID:275-1530183600-1530192600@act.org.sg
SUMMARY:ACTS/SIM GE Career Talk
DESCRIPTION:
URL:https://act.org.sg/event/acts-sim-ge-career-talk-2/
END:VEVENT
BEGIN:VEVENT
DTSTART;TZID=Asia/Shanghai:20180620T093000
DTEND;TZID=Asia/Shanghai:20180620T123000
DTSTAMP:20260422T010527
CREATED:20200224T151524Z
LAST-MODIFIED:20200224T151524Z
UID:272-1529487000-1529497800@act.org.sg
SUMMARY:The Future World of Digital & Its Impact on Corporations
DESCRIPTION:
URL:https://act.org.sg/event/the-future-world-of-digital-its-impact-on-corporations/
LOCATION:DBS Asia X\, 1 Fusionopolis View\, 138577\, Singapore
END:VEVENT
BEGIN:VEVENT
DTSTART;TZID=Asia/Shanghai:20180605T083000
DTEND;TZID=Asia/Shanghai:20180606T173000
DTSTAMP:20260422T010527
CREATED:20200224T154807Z
LAST-MODIFIED:20200224T154807Z
UID:307-1528187400-1528306200@act.org.sg
SUMMARY:GFMA-ASIFMA Green Finance Conference 2018
DESCRIPTION:
URL:https://act.org.sg/event/gfma-asifma-green-finance-conference-2018/
END:VEVENT
BEGIN:VEVENT
DTSTART;TZID=Asia/Shanghai:20180523T083000
DTEND;TZID=Asia/Shanghai:20180523T173000
DTSTAMP:20260422T010527
CREATED:20200224T154439Z
LAST-MODIFIED:20200224T154439Z
UID:305-1527064200-1527096600@act.org.sg
SUMMARY:Supply Chain Finance Community Forum Asia
DESCRIPTION:
URL:https://act.org.sg/event/supply-chain-finance-community-forum-asia-2/
LOCATION:Shaw Foundation Alumni House\, National University of Singapore 11 Kent Ridge Drive\, 119244\, Singapore
END:VEVENT
BEGIN:VEVENT
DTSTART;TZID=Asia/Shanghai:20180425T120000
DTEND;TZID=Asia/Shanghai:20180425T160000
DTSTAMP:20260422T010527
CREATED:20200224T154321Z
LAST-MODIFIED:20200224T154321Z
UID:303-1524657600-1524672000@act.org.sg
SUMMARY:Women in Treasury Asia Forum
DESCRIPTION:
URL:https://act.org.sg/event/women-in-treasury-asia-forum-2/
LOCATION:Four Seasons Hotel\, 190 Orchard Boulevard\, 248646\, Singapore
END:VEVENT
BEGIN:VEVENT
DTSTART;TZID=Asia/Shanghai:20180413T163000
DTEND;TZID=Asia/Shanghai:20180413T180000
DTSTAMP:20260422T010527
CREATED:20200224T145659Z
LAST-MODIFIED:20200224T145659Z
UID:268-1523637000-1523642400@act.org.sg
SUMMARY:LIBOR’s Impact on Treasury Functions
DESCRIPTION:
URL:https://act.org.sg/event/libors-impact-on-treasury-functions/
END:VEVENT
BEGIN:VEVENT
DTSTART;TZID=Asia/Shanghai:20180410T180000
DTEND;TZID=Asia/Shanghai:20180410T200000
DTSTAMP:20260422T010527
CREATED:20200224T145439Z
LAST-MODIFIED:20200224T145439Z
UID:265-1523383200-1523390400@act.org.sg
SUMMARY:SIX TO EIGHT (Members Night/AGM)
DESCRIPTION:
URL:https://act.org.sg/event/six-to-eight-members-night-agm-2/
END:VEVENT
BEGIN:VEVENT
DTSTART;TZID=Asia/Shanghai:20180405T153000
DTEND;TZID=Asia/Shanghai:20180405T170000
DTSTAMP:20260422T010527
CREATED:20200224T145219Z
LAST-MODIFIED:20200224T145219Z
UID:262-1522942200-1522947600@act.org.sg
SUMMARY:Visit to DHL Innovation Centre
DESCRIPTION:
URL:https://act.org.sg/event/visit-to-dhl-innovation-centre/
END:VEVENT
BEGIN:VEVENT
DTSTART;TZID=Asia/Shanghai:20180307T180000
DTEND;TZID=Asia/Shanghai:20180307T210000
DTSTAMP:20260422T010527
CREATED:20200224T144951Z
LAST-MODIFIED:20200224T144951Z
UID:258-1520445600-1520456400@act.org.sg
SUMMARY:China 2018: The Best and the Worst to Come
DESCRIPTION:
URL:https://act.org.sg/event/china-2018-the-best-and-the-worst-to-come/
END:VEVENT
BEGIN:VEVENT
DTSTART;TZID=Asia/Shanghai:20180228T090000
DTEND;TZID=Asia/Shanghai:20180301T173000
DTSTAMP:20260422T010527
CREATED:20200224T154227Z
LAST-MODIFIED:20200224T154227Z
UID:299-1519808400-1519925400@act.org.sg
SUMMARY:Trade\, Treasury & Commodity Finance Conference
DESCRIPTION:
URL:https://act.org.sg/event/trade-treasury-commodity-finance-conference/
END:VEVENT
BEGIN:VEVENT
DTSTART;TZID=Asia/Shanghai:20180125T090000
DTEND;TZID=Asia/Shanghai:20180125T120000
DTSTAMP:20260422T010527
CREATED:20200224T153943Z
LAST-MODIFIED:20200224T153943Z
UID:295-1516870800-1516881600@act.org.sg
SUMMARY:2018 Asia Credit Outlook Conference
DESCRIPTION:
URL:https://act.org.sg/event/2018-asia-credit-outlook-conference/
END:VEVENT
BEGIN:VEVENT
DTSTART;TZID=Asia/Shanghai:20171116T080000
DTEND;TZID=Asia/Shanghai:20171116T170000
DTSTAMP:20260422T010527
CREATED:20200224T185031Z
LAST-MODIFIED:20200224T185031Z
UID:385-1510819200-1510851600@act.org.sg
SUMMARY:12th Asian Bond Markets Summit
DESCRIPTION:
URL:https://act.org.sg/event/12th-asian-bond-markets-summit/
LOCATION:Conrad Centennial Singapore\, 2 Temasek Boulevard\, 038982\, Singapore
END:VEVENT
BEGIN:VEVENT
DTSTART;TZID=Asia/Shanghai:20171115T083000
DTEND;TZID=Asia/Shanghai:20171115T173000
DTSTAMP:20260422T010527
CREATED:20200224T184914Z
LAST-MODIFIED:20200224T184914Z
UID:383-1510734600-1510767000@act.org.sg
SUMMARY:G20 Green Finance Conference Singapore
DESCRIPTION:
URL:https://act.org.sg/event/g20-green-finance-conference-singapore/
END:VEVENT
BEGIN:VEVENT
DTSTART;TZID=Asia/Shanghai:20171113T120000
DTEND;TZID=Asia/Shanghai:20171113T160000
DTSTAMP:20260422T010527
CREATED:20200224T184747Z
LAST-MODIFIED:20200224T184747Z
UID:381-1510574400-1510588800@act.org.sg
SUMMARY:Adam Smith Awards ASIA 2017
DESCRIPTION:Lenovo – Treasury Today Asia’s Top Treasury Team Award for Overall Excellence (Overall Winners)
URL:https://act.org.sg/event/adam-smith-awards-asia-2017/
LOCATION:Four Seasons Hotel\, 190 Orchard Boulevard\, 248646\, Singapore
END:VEVENT
BEGIN:VEVENT
DTSTART;TZID=Asia/Shanghai:20171109T150000
DTEND;TZID=Asia/Shanghai:20171109T163000
DTSTAMP:20260422T010527
CREATED:20200224T181556Z
LAST-MODIFIED:20200224T181556Z
UID:349-1510239600-1510245000@act.org.sg
SUMMARY:Disruptive Technology (Part 3) - Automating Your Treasury
DESCRIPTION:
URL:https://act.org.sg/event/disruptive-technology-part-3-automating-your-treasury/
END:VEVENT
BEGIN:VEVENT
DTSTART;TZID=Asia/Shanghai:20171108T140000
DTEND;TZID=Asia/Shanghai:20171108T150000
DTSTAMP:20260422T010527
CREATED:20200224T182944Z
LAST-MODIFIED:20200224T182944Z
UID:362-1510149600-1510153200@act.org.sg
SUMMARY:WebEx Audio Cast: Manual to E-trading - Treasury Workflow and Analytical Improvements
DESCRIPTION:
URL:https://act.org.sg/event/webex-audio-cast-manual-to-e-trading-treasury-workflow-and-analytical-improvements/
CATEGORIES:Webinar
END:VEVENT
BEGIN:VEVENT
DTSTART;TZID=Asia/Shanghai:20171026T090000
DTEND;TZID=Asia/Shanghai:20171026T110000
DTSTAMP:20260422T010527
CREATED:20200224T181253Z
LAST-MODIFIED:20200224T181253Z
UID:347-1509008400-1509015600@act.org.sg
SUMMARY:Treasury Roundtable : Receivables Financing & Working Capital Optimisation (Digitisation & Innovation)
DESCRIPTION:
URL:https://act.org.sg/event/treasury-roundtable-receivables-financing-working-capital-optimisation-digitisation-innovation/
END:VEVENT
BEGIN:VEVENT
DTSTART;TZID=Asia/Shanghai:20171012T160000
DTEND;TZID=Asia/Shanghai:20171012T180000
DTSTAMP:20260422T010527
CREATED:20200224T181126Z
LAST-MODIFIED:20200224T181126Z
UID:345-1507824000-1507831200@act.org.sg
SUMMARY:Treasury Prism Portal Launch
DESCRIPTION:
URL:https://act.org.sg/event/treasury-prism-portal-launch/
END:VEVENT
BEGIN:VEVENT
DTSTART;TZID=Asia/Shanghai:20170926T083000
DTEND;TZID=Asia/Shanghai:20170926T170000
DTSTAMP:20260422T010527
CREATED:20200224T184548Z
LAST-MODIFIED:20200224T184548Z
UID:378-1506414600-1506445200@act.org.sg
SUMMARY:Asia Risk Congress
DESCRIPTION:
URL:https://act.org.sg/event/asia-risk-congress/
END:VEVENT
BEGIN:VEVENT
DTSTART;TZID=Asia/Shanghai:20170920T083000
DTEND;TZID=Asia/Shanghai:20170920T170000
DTSTAMP:20260422T010527
CREATED:20200224T180837Z
LAST-MODIFIED:20200224T180837Z
UID:343-1505896200-1505926800@act.org.sg
SUMMARY:ACTS/ATC Treasury Forum 2017
DESCRIPTION:
URL:https://act.org.sg/event/acts-atc-treasury-forum-2017/
END:VEVENT
BEGIN:VEVENT
DTSTART;TZID=Asia/Shanghai:20170823T153000
DTEND;TZID=Asia/Shanghai:20170823T170000
DTSTAMP:20260422T010527
CREATED:20200224T180608Z
LAST-MODIFIED:20200224T180608Z
UID:340-1503502200-1503507600@act.org.sg
SUMMARY:Visit to Lego
DESCRIPTION:
URL:https://act.org.sg/event/visit-to-lego/
END:VEVENT
BEGIN:VEVENT
DTSTART;TZID=Asia/Shanghai:20170727T140000
DTEND;TZID=Asia/Shanghai:20170727T150000
DTSTAMP:20260422T010527
CREATED:20200224T182651Z
LAST-MODIFIED:20200224T182651Z
UID:360-1501164000-1501167600@act.org.sg
SUMMARY:Disruptive Technology Part 2
DESCRIPTION:
URL:https://act.org.sg/event/disruptive-technology-part-2/
CATEGORIES:Webinar
END:VEVENT
END:VCALENDAR