BEGIN:VCALENDAR
VERSION:2.0
PRODID:-//Association of Corporate Treasurers (Singapore) - ECPv6.15.20//NONSGML v1.0//EN
CALSCALE:GREGORIAN
METHOD:PUBLISH
X-WR-CALNAME:Association of Corporate Treasurers (Singapore)
X-ORIGINAL-URL:https://act.org.sg
X-WR-CALDESC:Events for Association of Corporate Treasurers (Singapore)
REFRESH-INTERVAL;VALUE=DURATION:PT1H
X-Robots-Tag:noindex
X-PUBLISHED-TTL:PT1H
BEGIN:VTIMEZONE
TZID:Asia/Shanghai
BEGIN:STANDARD
TZOFFSETFROM:+0800
TZOFFSETTO:+0800
TZNAME:CST
DTSTART:20190101T000000
END:STANDARD
END:VTIMEZONE
BEGIN:VEVENT
DTSTART;TZID=Asia/Shanghai:20200916T160000
DTEND;TZID=Asia/Shanghai:20200916T180000
DTSTAMP:20260421T224948
CREATED:20200826T154445Z
LAST-MODIFIED:20200826T154445Z
UID:718-1600272000-1600279200@act.org.sg
SUMMARY:ACTS AGM (Virtual)
DESCRIPTION:  \n \nACTS AGM 2020 (Virtual) \nDate: 16 September 2020 (Wednesday) \nPlease register via email.
URL:https://act.org.sg/event/acts-agm-virtual/
CATEGORIES:AGM
END:VEVENT
END:VCALENDAR