BEGIN:VCALENDAR
VERSION:2.0
PRODID:-//Association of Corporate Treasurers (Singapore) - ECPv6.15.20//NONSGML v1.0//EN
CALSCALE:GREGORIAN
METHOD:PUBLISH
X-ORIGINAL-URL:https://act.org.sg
X-WR-CALDESC:Events for Association of Corporate Treasurers (Singapore)
REFRESH-INTERVAL;VALUE=DURATION:PT1H
X-Robots-Tag:noindex
X-PUBLISHED-TTL:PT1H
BEGIN:VTIMEZONE
TZID:Asia/Shanghai
BEGIN:STANDARD
TZOFFSETFROM:+0800
TZOFFSETTO:+0800
TZNAME:CST
DTSTART:20180101T000000
END:STANDARD
END:VTIMEZONE
BEGIN:VEVENT
DTSTART;TZID=Asia/Shanghai:20191008T090000
DTEND;TZID=Asia/Shanghai:20191008T173000
DTSTAMP:20260421T090306
CREATED:20200110T095129Z
LAST-MODIFIED:20200110T095129Z
UID:83-1570525200-1570555800@act.org.sg
SUMMARY:Treasurers Asia Summit 2019
DESCRIPTION:Join over 200 Corporate Treasury practitioners\, professionals and academics from Multi-National Corporations\, Financial Institutions\, Financial Service Providers\, Universities\, Trade Publications and Associations for an afternoon of insightful discussions on Singapore and her position as a Global Finance and Treasury Centre. Choose to attend any 2 of the 8 unique breakout streams covering various topics across the diverse roles and responsibilities of the modern Corporate Treasurer. Take advantage of the opportunity to engage the best minds in the industry\, deep dive and learn from each other’s experiences and expertise. \nClick here for the post event highlights!
URL:https://act.org.sg/event/treasurers-asia-summit-2019/
CATEGORIES:ACTS Key Events
END:VEVENT
END:VCALENDAR