BEGIN:VCALENDAR
VERSION:2.0
PRODID:-//Association of Corporate Treasurers (Singapore) - ECPv6.15.20//NONSGML v1.0//EN
CALSCALE:GREGORIAN
METHOD:PUBLISH
X-WR-CALNAME:Association of Corporate Treasurers (Singapore)
X-ORIGINAL-URL:https://act.org.sg
X-WR-CALDESC:Events for Association of Corporate Treasurers (Singapore)
REFRESH-INTERVAL;VALUE=DURATION:PT1H
X-Robots-Tag:noindex
X-PUBLISHED-TTL:PT1H
BEGIN:VTIMEZONE
TZID:UTC
BEGIN:STANDARD
TZOFFSETFROM:+0000
TZOFFSETTO:+0000
TZNAME:UTC
DTSTART:20250101T000000
END:STANDARD
END:VTIMEZONE
BEGIN:VEVENT
DTSTART;TZID=UTC:20260428T160000
DTEND;TZID=UTC:20260428T183000
DTSTAMP:20260421T034242
CREATED:20260407T072646Z
LAST-MODIFIED:20260407T072834Z
UID:1384-1777392000-1777401000@act.org.sg
SUMMARY:Treasury Insights Session — Macro Outlook & FX Risk Strategy
DESCRIPTION:Together with Bank of America\, we have a focused Treasury Insights Session designed for corporate treasurers navigating today’s evolving macro environment and FX market volatility. \nThis in-person session will feature a briefing on global macro trends\, interest rate trajectories\, and FX market dynamics shaping treasury decision making in the year ahead\, followed by a panel discussion on how treasurers are adapting their transactional FX frameworks\, exposure identification processes\, and hedging strategies amid heightened uncertainty. \nAgenda:\n4:00 – 4:30pm Registration & Arrival\n4:30 – 4:40pm Welcome Remarks\n4:40 – 5:15pm Macro Economy & FX Outlook\n5:15 – 6:00pm Panel Discussion\n6:00 – 6:30pm Closing Remarks\, Networking & Refreshments \n• Welcome Remarks by Martin Siah\, Country Executive\, Bank of America\n• Macro & Research Perspective by Claudio Piron\, Bank of America Research\n• Expert Panel: Navigating Volatility: Building Resilient FX Risk Strategies\no Moderator: Olivier Anceau: Head of APAC Specialized Product Sales\, Global Payments Solutions\, Bank of America\nPanellists:\no Edoardo Sirtori: Group Vice President\, Global Co-Head of Treasury\, STMicroelectronics\no Alexander Seelmann Eggebert: Regional Deputy Treasurer\, Asia Pacific\, Nestlé\no Ravi Murthy: Head of APAC FICC Corporate Sales\, Bank of America\n• Closing Remarks by Aziz Parvez\, SE Asia Head of Global Payments Solutions\,\nBank of America \n  \nIn partnership with \n \n  \n 
URL:https://act.org.sg/event/treasury-insights-session-macro-outlook-fx-risk-strategy/
LOCATION:Bank of America 50 Collyer Quay Level 14 OUE Bayfront Singapore 049321\, Singapore
END:VEVENT
END:VCALENDAR